BEGIN:VCALENDAR
VERSION:2.0
PRODID:-//Plone.org//NONSGML plone.app.event//EN
X-WR-TIMEZONE:Europe/Berlin
BEGIN:VEVENT
SUMMARY:Nacht der Kunst 2023 in der medizinhistorisch-anatomischen Sammlun
 g
DTSTART;TZID=Europe/Berlin:20230630T180000
DTEND;TZID=Europe/Berlin:20230630T235500
DTSTAMP:20260424T202206Z
UID:a4ff44064e204e54982a016426984720@www.uni-marburg.de
ATTENDEE;CN="Stündlich Kurzpräsentationen durch Studierende der Medizin"
 ;ROLE=REQ-PARTICIPANT:Stündlich Kurzpräsentationen durch Studierende der
  Medizin
CREATED:20230630T111001Z
DESCRIPTION:https://www.uni-marburg.de/de/fb16/igphmmr/aktuelles/termine/t
 ermine-2023/nacht-der-kunst-2023\nNacht der Kunst 2023 am 30.06.2023 in de
 r medizinhistorisch-anatomischen Sammlung des Instituts für Geschichte de
 r Pharmazie und Medizin der Philipps-Universität Marburg.
LAST-MODIFIED:20231123T163008Z
LOCATION:Robert-Koch-Straße 8
URL:https://www.uni-marburg.de/de/fb16/igphmmr/aktuelles/termine/termine-2
 023/nacht-der-kunst-2023
END:VEVENT
BEGIN:VTIMEZONE
TZID:Europe/Berlin
X-LIC-LOCATION:Europe/Berlin
BEGIN:DAYLIGHT
DTSTART:20230326T030000
TZNAME:CEST
TZOFFSETFROM:+0100
TZOFFSETTO:+0200
END:DAYLIGHT
END:VTIMEZONE
END:VCALENDAR
