BEGIN:VCALENDAR
VERSION:2.0
PRODID:-//Plone.org//NONSGML plone.app.event//EN
X-WR-TIMEZONE:Europe/Berlin
BEGIN:VEVENT
SUMMARY:Vortrag von Barbara Orland: "Zweifel an der Heilkraft der Bezoare 
 – Eine tierische Arznei auf dem Prüfstand der Chemie des 18. Jahrhunder
 ts."
DTSTART;TZID=Europe/Berlin:20240117T181500
DTEND;TZID=Europe/Berlin:20240117T194500
DTSTAMP:20260426T053040Z
UID:ceab26f9eed9481bbaca6750da159d50@www.uni-marburg.de
ATTENDEE;CN="Barbara Orland";ROLE=REQ-PARTICIPANT:Barbara Orland
CREATED:20231024T080714Z
DESCRIPTION:https://www.uni-marburg.de/de/fb16/igphmmr/aktuelles/termine/t
 ermine-2023/vortrag-von-barbara-orland-zweifel-an-der-heilkraft-der-bezoar
 e-eine-tierische-arznei-auf-dem-pruefstand-der-chemie-des-18-jahrhunderts\
 nWissenschaftshistorisches Kolloquium - Institut für Geschichte der Pharm
 azie und Medizin
LAST-MODIFIED:20240110T143456Z
LOCATION:Hörsaal des Institutsgebäudes\, Roter Graben 10\, 35037 Marburg
  oder online.
URL:https://www.uni-marburg.de/de/fb16/igphmmr/aktuelles/termine/termine-2
 023/vortrag-von-barbara-orland-zweifel-an-der-heilkraft-der-bezoare-eine-t
 ierische-arznei-auf-dem-pruefstand-der-chemie-des-18-jahrhunderts
END:VEVENT
BEGIN:VTIMEZONE
TZID:Europe/Berlin
X-LIC-LOCATION:Europe/Berlin
BEGIN:STANDARD
DTSTART:20231029T020000
TZNAME:CET
TZOFFSETFROM:+0200
TZOFFSETTO:+0100
END:STANDARD
END:VTIMEZONE
END:VCALENDAR
