BEGIN:VCALENDAR
VERSION:2.0
PRODID:-//Plone.org//NONSGML plone.app.event//EN
X-WR-TIMEZONE:Europe/Berlin
BEGIN:VEVENT
SUMMARY:Vortrag von Michael Höckel: "Braucht es eine Ethik in der Pharmaz
 ie?"
DTSTART;TZID=Europe/Berlin:20231206T181500
DTEND;TZID=Europe/Berlin:20231206T194500
DTSTAMP:20260424T210240Z
UID:3c63e13cf35e4dc589a3ed6f8c3e7a90@www.uni-marburg.de
ATTENDEE;CN="Michael Höckel";ROLE=REQ-PARTICIPANT:Michael Höckel
CREATED:20231024T075735Z
DESCRIPTION:https://www.uni-marburg.de/de/fb16/igphmmr/aktuelles/termine/t
 ermine-2023/vortrag-von-michael-hoeckel-braucht-es-eine-ethik-in-der-pharm
 azie\nWissenschaftshistorisches Kolloquium - Institut für Geschichte der 
 Pharmazie und Medizin
LAST-MODIFIED:20231123T163001Z
LOCATION:Hörsaal des Institutsgebäudes\, Roter Graben 10\, 35037 Marburg
  oder online.
URL:https://www.uni-marburg.de/de/fb16/igphmmr/aktuelles/termine/termine-2
 023/vortrag-von-michael-hoeckel-braucht-es-eine-ethik-in-der-pharmazie
END:VEVENT
BEGIN:VTIMEZONE
TZID:Europe/Berlin
X-LIC-LOCATION:Europe/Berlin
BEGIN:STANDARD
DTSTART:20231029T020000
TZNAME:CET
TZOFFSETFROM:+0200
TZOFFSETTO:+0100
END:STANDARD
END:VTIMEZONE
END:VCALENDAR
