BEGIN:VCALENDAR
VERSION:2.0
PRODID:-//Plone.org//NONSGML plone.app.event//EN
X-WR-TIMEZONE:Europe/Berlin
BEGIN:VEVENT
SUMMARY:Vortrag von PD Dr. Matthias Bähr: "Totes Kapital? Die Ökonomie d
 es Leichnams in der Frühen Neuzeit "
DTSTART;TZID=Europe/Berlin:20231101T181500
DTEND;TZID=Europe/Berlin:20231101T194500
DTSTAMP:20260426T001712Z
UID:793333047fa04311958abe3b22dcede7@www.uni-marburg.de
ATTENDEE;CN="PD Dr. Matthias Bähr";ROLE=REQ-PARTICIPANT:PD Dr. Matthias B
 ähr
CREATED:20231024T070653Z
DESCRIPTION:https://www.uni-marburg.de/de/fb16/igphmmr/aktuelles/termine/t
 ermine-2023/vortrag-von-pd-dr-matthias-baehr-totes-kapital-die-oekonomie-d
 es-leichnams-in-der-fruehen-neuzeit-1\nWissenschaftshistorisches Kolloquiu
 m - Institut für Geschichte der Pharmazie und Medizin
LAST-MODIFIED:20231123T163009Z
LOCATION:Hörsaal des Institutsgebäudes\, Roter Graben 10\, 35037 Marburg
  oder online.
URL:https://www.uni-marburg.de/de/fb16/igphmmr/aktuelles/termine/termine-2
 023/vortrag-von-pd-dr-matthias-baehr-totes-kapital-die-oekonomie-des-leich
 nams-in-der-fruehen-neuzeit-1
END:VEVENT
BEGIN:VTIMEZONE
TZID:Europe/Berlin
X-LIC-LOCATION:Europe/Berlin
BEGIN:STANDARD
DTSTART:20231029T020000
TZNAME:CET
TZOFFSETFROM:+0200
TZOFFSETTO:+0100
END:STANDARD
END:VTIMEZONE
END:VCALENDAR
