BEGIN:VCALENDAR
VERSION:2.0
PRODID:-//Plone.org//NONSGML plone.app.event//EN
X-WR-TIMEZONE:Europe/Berlin
BEGIN:VEVENT
SUMMARY:Vortrag von PD Dr. Matthias Bähr: "Totes Kapital? Die Ökonomie d
 es Leichnams in der Frühen Neuzeit "
DTSTART;TZID=Europe/Berlin:20230712T181500
DTEND;TZID=Europe/Berlin:20230712T194500
DTSTAMP:20260426T001523Z
UID:91b366d538c141babb9bc52bb11e58fb@www.uni-marburg.de
ATTENDEE;CN="PD Dr. Matthias Bähr";ROLE=REQ-PARTICIPANT:PD Dr. Matthias B
 ähr
CREATED:20230427T141722Z
DESCRIPTION:https://www.uni-marburg.de/de/fb16/igphmmr/aktuelles/termine/t
 ermine-2023/vortrag-von-pd-dr-matthias-baehr-totes-kapital-die-oekonomie-d
 es-leichnams-in-der-fruehen-neuzeit\nWissenschaftshistorisches Kolloquium 
 - Institut für Geschichte der Pharmazie und Medizin (i. Gr.)
LAST-MODIFIED:20231123T162957Z
LOCATION:Hörsaal des Institutsgebäudes\, Roter Graben 10\, 35037 Marburg
  oder online.
URL:https://www.uni-marburg.de/de/fb16/igphmmr/aktuelles/termine/termine-2
 023/vortrag-von-pd-dr-matthias-baehr-totes-kapital-die-oekonomie-des-leich
 nams-in-der-fruehen-neuzeit
END:VEVENT
BEGIN:VTIMEZONE
TZID:Europe/Berlin
X-LIC-LOCATION:Europe/Berlin
BEGIN:DAYLIGHT
DTSTART:20230326T030000
TZNAME:CEST
TZOFFSETFROM:+0100
TZOFFSETTO:+0200
END:DAYLIGHT
END:VTIMEZONE
END:VCALENDAR
