BEGIN:VCALENDAR
VERSION:2.0
PRODID:-//Plone.org//NONSGML plone.app.event//EN
X-WR-TIMEZONE:Europe/Berlin
BEGIN:VEVENT
SUMMARY:Vortrag von Prof. Dr. David von Mayenburg: "Eine 12jährige Raubm
 örderin zwischen Justiz und Medizin – zur Begutachtung der Schuldfähig
 keit im Kaiserreich"
DTSTART;TZID=Europe/Berlin:20230531T181500
DTEND;TZID=Europe/Berlin:20230531T194500
DTSTAMP:20260426T012143Z
UID:3d1e3e62b2164e5ba623bffb57b28b3d@www.uni-marburg.de
ATTENDEE;CN="Prof. Dr. David von Mayenburg";ROLE=REQ-PARTICIPANT:Prof. Dr.
  David von Mayenburg
CREATED:20230419T120714Z
DESCRIPTION:https://www.uni-marburg.de/de/fb16/igphmmr/aktuelles/termine/t
 ermine-2023/vortrag-von-prof-dr-david-von-mayenburg-eine-12jaehrige-raubmo
 erderin-zwischen-justiz-und-medizin-zur-begutachtung-der-schuldfaehigkeit-
 im-kaiserreich\nWissenschaftshistorisches Kolloquium - Institut für Gesch
 ichte der Pharmazie und Medizin (i. Gr.)
LAST-MODIFIED:20231123T162955Z
LOCATION:Hörsaal des Institutsgebäudes\, Roter Graben 10\, 35037 Marburg
  oder online.
URL:https://www.uni-marburg.de/de/fb16/igphmmr/aktuelles/termine/termine-2
 023/vortrag-von-prof-dr-david-von-mayenburg-eine-12jaehrige-raubmoerderin-
 zwischen-justiz-und-medizin-zur-begutachtung-der-schuldfaehigkeit-im-kaise
 rreich
END:VEVENT
BEGIN:VTIMEZONE
TZID:Europe/Berlin
X-LIC-LOCATION:Europe/Berlin
BEGIN:DAYLIGHT
DTSTART:20230326T030000
TZNAME:CEST
TZOFFSETFROM:+0100
TZOFFSETTO:+0200
END:DAYLIGHT
END:VTIMEZONE
END:VCALENDAR
