BEGIN:VCALENDAR
VERSION:2.0
PRODID:-//Plone.org//NONSGML plone.app.event//EN
X-WR-TIMEZONE:Europe/Berlin
BEGIN:VEVENT
SUMMARY:Öffentlicher Abendvortrag von Prof. Dr. med. Karl-Heinz Leven: "K
 lima\, Pest und Migration - Die Rede vom Untergang Roms"
DTSTART;TZID=Europe/Berlin:20230616T183000
DTEND;TZID=Europe/Berlin:20230616T203000
DTSTAMP:20260426T030614Z
UID:5f1c60a769ad4d6bb3df250cdfc388e1@www.uni-marburg.de
ATTENDEE;CN="Prof. Dr. med. Karl-Heinz Leven";ROLE=REQ-PARTICIPANT:Prof. D
 r. med. Karl-Heinz Leven
CREATED:20230517T142038Z
DESCRIPTION:https://www.uni-marburg.de/de/fb16/igphmmr/aktuelles/termine/t
 ermine-2023/vortrag-von-prof-dr-med-karl-heinz-leven-klima-pest-und-migrat
 ion-die-rede-vom-untergang-roms\nEinladung zum Festvortrag im Rahmen des 2
 . Jahrestreffens der „Marburger Gespräche zur Alten Heilkunde“
LAST-MODIFIED:20231123T162958Z
LOCATION:Landgrafensaal des Hessischen Staatsarchivs Marburg\, Friedrichsp
 latz 15\, 35037 Marburg (Lahn)
URL:https://www.uni-marburg.de/de/fb16/igphmmr/aktuelles/termine/termine-2
 023/vortrag-von-prof-dr-med-karl-heinz-leven-klima-pest-und-migration-die-
 rede-vom-untergang-roms
END:VEVENT
BEGIN:VTIMEZONE
TZID:Europe/Berlin
X-LIC-LOCATION:Europe/Berlin
BEGIN:DAYLIGHT
DTSTART:20230326T030000
TZNAME:CEST
TZOFFSETFROM:+0100
TZOFFSETTO:+0200
END:DAYLIGHT
END:VTIMEZONE
END:VCALENDAR
