BEGIN:VCALENDAR
VERSION:2.0
PRODID:-//Plone.org//NONSGML plone.app.event//EN
X-WR-TIMEZONE:Europe/Berlin
BEGIN:VEVENT
SUMMARY:Vortrag von Prof. Dr. med. Philip Osten: "Human Remains in Wissens
 chaft und Öffentlichkeit. Debatten um medizinische Ausbildung\, NS-Medizi
 n und koloniale Verbrechen"
DTSTART;TZID=Europe/Berlin:20230419T181500
DTEND;TZID=Europe/Berlin:20230419T194500
DTSTAMP:20260425T141902Z
UID:bf66c86bf1a54621a4d131edc1b3de69@www.uni-marburg.de
CREATED:20230418T074123Z
DESCRIPTION:https://www.uni-marburg.de/de/fb16/igphmmr/aktuelles/termine/t
 ermine-2023/vortrag-von-prof-dr-med-philip-osten-human-remains-in-wissensc
 haft-und-oeffentlichkeit-debatten-um-medizinische-ausbildung-ns-medizin-un
 d-koloniale-verbrechen\nWissenschaftshistorisches Kolloquium - Institut f
 ür Geschichte der Pharmazie und Medizin (i. Gr.)
LAST-MODIFIED:20231123T162953Z
LOCATION:Hörsaal des Institutsgebäudes\, Roter Graben 10\, 35037 Marburg
  oder online.
URL:https://www.uni-marburg.de/de/fb16/igphmmr/aktuelles/termine/termine-2
 023/vortrag-von-prof-dr-med-philip-osten-human-remains-in-wissenschaft-und
 -oeffentlichkeit-debatten-um-medizinische-ausbildung-ns-medizin-und-koloni
 ale-verbrechen
END:VEVENT
BEGIN:VTIMEZONE
TZID:Europe/Berlin
X-LIC-LOCATION:Europe/Berlin
BEGIN:DAYLIGHT
DTSTART:20230326T030000
TZNAME:CEST
TZOFFSETFROM:+0100
TZOFFSETTO:+0200
END:DAYLIGHT
END:VTIMEZONE
END:VCALENDAR
