BEGIN:VCALENDAR
VERSION:2.0
PRODID:-//Plone.org//NONSGML plone.app.event//EN
X-WR-TIMEZONE:Europe/Berlin
BEGIN:VEVENT
SUMMARY:Vortrag von Prof. Dr. Toine Pieters: "Bio-based Pharmaceutical Inn
 ovation in The Netherlands (1880- 1970): Quinine\, Cocaine and Morphine as
  historical case studies"
DTSTART;TZID=Europe/Berlin:20230628T181500
DTEND;TZID=Europe/Berlin:20230628T194500
DTSTAMP:20260426T051952Z
UID:c5fa1135c3964617b50270c07c283c1c@www.uni-marburg.de
ATTENDEE;CN="Prof. Dr. Toine Pieters";ROLE=REQ-PARTICIPANT:Prof. Dr. Toine
  Pieters
CREATED:20230427T121421Z
DESCRIPTION:https://www.uni-marburg.de/de/fb16/igphmmr/aktuelles/termine/t
 ermine-2023/vortrag-von-prof-dr-toine-pieters-bio-based-pharmaceutical-inn
 ovation-in-the-netherlands-1880-1970-quinine-cocaine-and-morphine-as-histo
 rical-case-studies\nWissenschaftshistorisches Kolloquium in Zusammenarbeit
  mit der DPhG - Institut für Geschichte der Pharmazie und Medizin (i. Gr.
 )
LAST-MODIFIED:20231123T162956Z
LOCATION:Hörsaal des Institutsgebäudes\, Roter Graben 10\, 35037 Marburg
  oder online.
URL:https://www.uni-marburg.de/de/fb16/igphmmr/aktuelles/termine/termine-2
 023/vortrag-von-prof-dr-toine-pieters-bio-based-pharmaceutical-innovation-
 in-the-netherlands-1880-1970-quinine-cocaine-and-morphine-as-historical-ca
 se-studies
END:VEVENT
BEGIN:VTIMEZONE
TZID:Europe/Berlin
X-LIC-LOCATION:Europe/Berlin
BEGIN:DAYLIGHT
DTSTART:20230326T030000
TZNAME:CEST
TZOFFSETFROM:+0100
TZOFFSETTO:+0200
END:DAYLIGHT
END:VTIMEZONE
END:VCALENDAR
