BEGIN:VCALENDAR
VERSION:2.0
PRODID:-//Plone.org//NONSGML plone.app.event//EN
X-WR-TIMEZONE:Europe/Berlin
BEGIN:VEVENT
SUMMARY:Vortrag von Dr. Thomas Ruhland (Universität Halle): "human remain
 s\, missionarisches Sammeln und anatomische Sammlungen – die Herrnhuter 
 Brüdergemeinde und die Meckelschen Sammlungen zu Halle (Saale)"
DTSTART;TZID=Europe/Berlin:20240612T181500
DTEND;TZID=Europe/Berlin:20240612T194500
DTSTAMP:20260424T040921Z
UID:085bf4a6158a4df198688a2a8e767919@www.uni-marburg.de
ATTENDEE;CN="Dr. Thomas Ruhland, Universität Halle";ROLE=REQ-PARTICIPANT:
 Dr. Thomas Ruhland, Universität Halle
CREATED:20240425T123948Z
DESCRIPTION:https://www.uni-marburg.de/de/fb16/igphmmr/aktuelles/termine/t
 ermine-2024/2024-06-12_vortrag_ruhland\nWissenschaftshistorisches Kolloqui
 um im Sommersemester 2024 am Institut für Geschichte der Pharmazie und Me
 dizin
LAST-MODIFIED:20240425T125707Z
LOCATION:Hörsaal Institut für Geschichte der Pharmazie und Medizin\, Rot
 er Graben 10\, 35037 Marburg
URL:https://www.uni-marburg.de/de/fb16/igphmmr/aktuelles/termine/termine-2
 024/2024-06-12_vortrag_ruhland
END:VEVENT
BEGIN:VTIMEZONE
TZID:Europe/Berlin
X-LIC-LOCATION:Europe/Berlin
BEGIN:DAYLIGHT
DTSTART:20240331T030000
TZNAME:CEST
TZOFFSETFROM:+0100
TZOFFSETTO:+0200
END:DAYLIGHT
END:VTIMEZONE
END:VCALENDAR
