BEGIN:VCALENDAR
VERSION:2.0
PRODID:-//Plone.org//NONSGML plone.app.event//EN
X-WR-TIMEZONE:Europe/Berlin
BEGIN:VEVENT
SUMMARY:Kurzfristiges Update: Der Vortrag fällt leider aus! Vortrag von D
 r. Marion Hulverscheidt (Universität Kassel): "Friedrich Karl Kleine (186
 9-1951) – ein wissenschaftliches Leben von Kolonialismus bis zum Nationa
 lsozialismus"
DTSTART;TZID=Europe/Berlin:20240626T181500
DTEND;TZID=Europe/Berlin:20240626T194500
DTSTAMP:20260424T044351Z
UID:a5c080b7d6a84cb1b88292c757f18a0f@www.uni-marburg.de
ATTENDEE;CN="Dr. Marion Hulverscheidt, Universität Kassel";ROLE=REQ-PARTI
 CIPANT:Dr. Marion Hulverscheidt, Universität Kassel
CREATED:20240425T123948Z
DESCRIPTION:https://www.uni-marburg.de/de/fb16/igphmmr/aktuelles/termine/t
 ermine-2024/2024-06-26_vortrag_hulverscheidt\nWissenschaftshistorisches Ko
 lloquium im Sommersemester 2024 am Institut für Geschichte der Pharmazie 
 und Medizin
LAST-MODIFIED:20240626T081259Z
LOCATION:Hörsaal Institut für Geschichte der Pharmazie und Medizin\, Rot
 er Graben 10\, 35037 Marburg
URL:https://www.uni-marburg.de/de/fb16/igphmmr/aktuelles/termine/termine-2
 024/2024-06-26_vortrag_hulverscheidt
END:VEVENT
BEGIN:VTIMEZONE
TZID:Europe/Berlin
X-LIC-LOCATION:Europe/Berlin
BEGIN:DAYLIGHT
DTSTART:20240331T030000
TZNAME:CEST
TZOFFSETFROM:+0100
TZOFFSETTO:+0200
END:DAYLIGHT
END:VTIMEZONE
END:VCALENDAR
