BEGIN:VCALENDAR
VERSION:2.0
PRODID:-//Plone.org//NONSGML plone.app.event//EN
X-WR-TIMEZONE:Europe/Berlin
BEGIN:VEVENT
SUMMARY:Vortrag von Julia Pflug (TU Braunschweig): "In den Himmel gelobt u
 nd zum Teufel gewünscht – Klosterapothekerinnen der Frühen Neuzeit"
DTSTART;TZID=Europe/Berlin:20240710T181500
DTEND;TZID=Europe/Berlin:20240710T194500
DTSTAMP:20260421T170136Z
UID:950d000f045e4bac81839cbabe776f5e@www.uni-marburg.de
ATTENDEE;CN="Julia Pflug, TU Braunschweig";ROLE=REQ-PARTICIPANT:Julia Pflu
 g, TU Braunschweig
CREATED:20240425T123948Z
DESCRIPTION:https://www.uni-marburg.de/de/fb16/igphmmr/aktuelles/termine/t
 ermine-2024/2024-07-10_vortrag_pflug\nWissenschaftshistorisches Kolloquium
  im Sommersemester 2024 am Institut für Geschichte der Pharmazie und Medi
 zin
LAST-MODIFIED:20240425T125812Z
LOCATION:Hörsaal Institut für Geschichte der Pharmazie und Medizin\, Rot
 er Graben 10\, 35037 Marburg
URL:https://www.uni-marburg.de/de/fb16/igphmmr/aktuelles/termine/termine-2
 024/2024-07-10_vortrag_pflug
END:VEVENT
BEGIN:VTIMEZONE
TZID:Europe/Berlin
X-LIC-LOCATION:Europe/Berlin
BEGIN:DAYLIGHT
DTSTART:20240331T030000
TZNAME:CEST
TZOFFSETFROM:+0100
TZOFFSETTO:+0200
END:DAYLIGHT
END:VTIMEZONE
END:VCALENDAR
