BEGIN:VCALENDAR
VERSION:2.0
PRODID:-//Plone.org//NONSGML plone.app.event//EN
X-WR-TIMEZONE:Europe/Berlin
BEGIN:VEVENT
SUMMARY:Dr. Dr. Lea Münch: "Psychiatrieerfahrungen im Elsass. Lebensgesch
 ichten zwischen Strasbourg und Hadamar im Nationalsozialismus"
DTSTART;TZID=Europe/Berlin:20241023T181500
DTEND;TZID=Europe/Berlin:20241023T194500
DTSTAMP:20260421T102001Z
UID:7eed2aa19e6140fe94955881bfb34161@www.uni-marburg.de
ATTENDEE;CN="Dr. Dr. Lea Münch, Universität Magdeburg";ROLE=REQ-PARTICIP
 ANT:Dr. Dr. Lea Münch, Universität Magdeburg
CATEGORIES:Wissenschaftshistorisches Kolloquium,Vortrag,Medizingeschichte,
 Pharmaziegeschichte,Geschichte der Medizin,Geschichte der Pharmazie,Instit
 ut für Geschichte der Pharmazie und Medizin
CREATED:20241008T111726Z
DESCRIPTION:https://www.uni-marburg.de/de/fb16/igphmmr/aktuelles/termine/t
 ermine-2024/2024-10-23-vortrag-muench\nVortrag im Rahmen des Wissenschafts
 historischen Kolloquiums am Institut für Geschichte der Pharmazie und Med
 izin
LAST-MODIFIED:20241009T075030Z
LOCATION:Hörsaal\, Roter Graben 10\, 35037 Marburg
URL:https://www.uni-marburg.de/de/fb16/igphmmr/aktuelles/termine/termine-2
 024/2024-10-23-vortrag-muench
END:VEVENT
BEGIN:VTIMEZONE
TZID:Europe/Berlin
X-LIC-LOCATION:Europe/Berlin
BEGIN:DAYLIGHT
DTSTART:20240331T030000
TZNAME:CEST
TZOFFSETFROM:+0100
TZOFFSETTO:+0200
END:DAYLIGHT
END:VTIMEZONE
END:VCALENDAR
