BEGIN:VCALENDAR
VERSION:2.0
PRODID:-//Plone.org//NONSGML plone.app.event//EN
X-WR-TIMEZONE:Europe/Berlin
BEGIN:VEVENT
SUMMARY:Dr. Natalia Bachour: "Doctoren\, Wundärzte und Pfuscher: Die Ärz
 te im Osmanischen Reich um 1800 nach der Beschreibung von Ulrich Jasper Se
 etzen"
DTSTART;TZID=Europe/Berlin:20241030T181500
DTEND;TZID=Europe/Berlin:20241030T194500
DTSTAMP:20260421T100629Z
UID:60d33e7ea70841b6a54d90495cf011f7@www.uni-marburg.de
ATTENDEE;CN="Dr. Natalia Bachour, Universität Zürich";ROLE=REQ-PARTICIPA
 NT:Dr. Natalia Bachour, Universität Zürich
CATEGORIES:Wissenschaftshistorisches Kolloquium,Vortrag,Medizingeschichte,
 Pharmaziegeschichte,Geschichte der Medizin,Geschichte der Pharmazie,Instit
 ut für Geschichte der Pharmazie und Medizin
CREATED:20241008T111726Z
DESCRIPTION:https://www.uni-marburg.de/de/fb16/igphmmr/aktuelles/termine/t
 ermine-2024/2024-10-30-vortrag-bachour\nVortrag im Rahmen des Wissenschaft
 shistorischen Kolloquiums am Institut für Geschichte der Pharmazie und Me
 dizin
LAST-MODIFIED:20241009T075301Z
LOCATION:Hörsaal\, Roter Graben 10\, 35037 Marburg
URL:https://www.uni-marburg.de/de/fb16/igphmmr/aktuelles/termine/termine-2
 024/2024-10-30-vortrag-bachour
END:VEVENT
BEGIN:VTIMEZONE
TZID:Europe/Berlin
X-LIC-LOCATION:Europe/Berlin
BEGIN:STANDARD
DTSTART:20241027T020000
TZNAME:CET
TZOFFSETFROM:+0200
TZOFFSETTO:+0100
END:STANDARD
END:VTIMEZONE
END:VCALENDAR
