BEGIN:VCALENDAR
VERSION:2.0
PRODID:-//Plone.org//NONSGML plone.app.event//EN
X-WR-TIMEZONE:Europe/Berlin
BEGIN:VEVENT
SUMMARY:Dr. Marion Hulverscheidt: "Friedrich Karl Kleine (1869–1951) –
  ein wissenschaftliches Leben von Kolonialismus bis zum Nationalsozialismu
 s"
DTSTART;TZID=Europe/Berlin:20241211T181500
DTEND;TZID=Europe/Berlin:20241211T194500
DTSTAMP:20260423T172148Z
UID:1aa0e0970d0849c5ab8300cee4a22a69@www.uni-marburg.de
ATTENDEE;CN="Dr. Marion Hulverscheidt, Universität Kassel";ROLE=REQ-PARTI
 CIPANT:Dr. Marion Hulverscheidt, Universität Kassel
CATEGORIES:Wissenschaftshistorisches Kolloquium,Vortrag,Medizingeschichte,
 Pharmaziegeschichte,Geschichte der Medizin,Geschichte der Pharmazie,Instit
 ut für Geschichte der Pharmazie und Medizin
CREATED:20241008T111726Z
DESCRIPTION:https://www.uni-marburg.de/de/fb16/igphmmr/aktuelles/termine/t
 ermine-2024/2024-12-11-vortrag-hulverscheidt\nVortrag im Rahmen des Wissen
 schaftshistorischen Kolloquiums am Institut für Geschichte der Pharmazie 
 und Medizin
LAST-MODIFIED:20250604T130616Z
LOCATION:Hörsaal\, Roter Graben 10\, 35037 Marburg
URL:https://www.uni-marburg.de/de/fb16/igphmmr/aktuelles/termine/termine-2
 024/2024-12-11-vortrag-hulverscheidt
END:VEVENT
BEGIN:VTIMEZONE
TZID:Europe/Berlin
X-LIC-LOCATION:Europe/Berlin
BEGIN:STANDARD
DTSTART:20241027T020000
TZNAME:CET
TZOFFSETFROM:+0200
TZOFFSETTO:+0100
END:STANDARD
END:VTIMEZONE
END:VCALENDAR
