BEGIN:VCALENDAR
VERSION:2.0
PRODID:-//Plone.org//NONSGML plone.app.event//EN
X-WR-TIMEZONE:Europe/Berlin
BEGIN:VEVENT
SUMMARY:Kölnisch Wasser
DTSTART;TZID=Europe/Berlin:20240311T180000
DTEND;TZID=Europe/Berlin:20240311T193000
DTSTAMP:20260421T052857Z
UID:bea69b73eefc4d269a4e58fa21c2de62@www.uni-marburg.de
ATTENDEE;CN="Johann Maria Farina, Fa. Johann Maria Farina gegenüber dem J
 ülichs-Platz GmbH";ROLE=REQ-PARTICIPANT:Johann Maria Farina, Fa. Johann M
 aria Farina gegenüber dem Jülichs-Platz GmbH
CREATED:20240307T140540Z
DESCRIPTION:https://www.uni-marburg.de/de/fb16/igphmmr/aktuelles/termine/t
 ermine-2024/koelnisch-wasser\nVortrag über die Geschichte des Hauses Fari
 na in Köln\, die bereits seit über drei Jahrhunderten Eau de Cologne her
 stellt.
LAST-MODIFIED:20240308T115524Z
LOCATION:Kleiner Hörsaal\, Institut für Pharmazeutische Chemie\, Marbach
 er Weg 10 (M03)\, 35037 Marburg (1. OG)
URL:https://www.uni-marburg.de/de/fb16/igphmmr/aktuelles/termine/termine-2
 024/koelnisch-wasser
END:VEVENT
BEGIN:VTIMEZONE
TZID:Europe/Berlin
X-LIC-LOCATION:Europe/Berlin
BEGIN:STANDARD
DTSTART:20231029T020000
TZNAME:CET
TZOFFSETFROM:+0200
TZOFFSETTO:+0100
END:STANDARD
END:VTIMEZONE
END:VCALENDAR
