BEGIN:VCALENDAR
VERSION:2.0
PRODID:-//Plone.org//NONSGML plone.app.event//EN
X-WR-TIMEZONE:Europe/Berlin
BEGIN:VEVENT
SUMMARY:Tanja Pommerening: Der Papyrus Ebers. Über die Medizin unter den 
 Pharaonen.
DTSTART;TZID=Europe/Berlin:20241027T103000
DTEND;TZID=Europe/Berlin:20241027T130000
DTSTAMP:20260424T185848Z
UID:e85e02bcb9824d9ba43e07aa8af09a69@www.uni-marburg.de
ATTENDEE;CN="Prof. Dr. Tanja Pommerening";ROLE=REQ-PARTICIPANT:Prof. Dr. T
 anja Pommerening
CREATED:20241022T124857Z
DESCRIPTION:https://www.uni-marburg.de/de/fb16/igphmmr/aktuelles/termine/t
 ermine-2024/tanja-pommerening-der-papyrus-ebers-ueber-die-medizin-unter-de
 n-pharaonen\nVortrag bei der Neuen Literarischen Gesellschaft e. V. im Rah
 men der Vortragsreihe "Uni im Café" im Café Vetter\, Marburg.
LAST-MODIFIED:20241022T125431Z
LOCATION:Café Vetter\, Reitgasse 4\, 35037 Marburg
URL:https://www.uni-marburg.de/de/fb16/igphmmr/aktuelles/termine/termine-2
 024/tanja-pommerening-der-papyrus-ebers-ueber-die-medizin-unter-den-pharao
 nen
END:VEVENT
BEGIN:VTIMEZONE
TZID:Europe/Berlin
X-LIC-LOCATION:Europe/Berlin
BEGIN:STANDARD
DTSTART:20241027T020000
TZNAME:CET
TZOFFSETFROM:+0200
TZOFFSETTO:+0100
END:STANDARD
END:VTIMEZONE
END:VCALENDAR
