BEGIN:VCALENDAR
VERSION:2.0
PRODID:-//Plone.org//NONSGML plone.app.event//EN
X-WR-TIMEZONE:Europe/Berlin
BEGIN:VEVENT
SUMMARY:Vortrag von Prof. Dr. Bettina Wahrig : "Eine kleine Geschichte des
  Frauenkörpers in dreizehn Stücken."
DTSTART;TZID=Europe/Berlin:20240424T181500
DTEND;TZID=Europe/Berlin:20240424T194500
DTSTAMP:20260425T201636Z
UID:7192a5ab57fb45de82a313f8fbb858f0@www.uni-marburg.de
ATTENDEE;CN="Prof. Dr. Bettina Wahrig";ROLE=REQ-PARTICIPANT:Prof. Dr. Bett
 ina Wahrig
CREATED:20240417T144851Z
DESCRIPTION:https://www.uni-marburg.de/de/fb16/igphmmr/aktuelles/termine/t
 ermine-2024/vortrag-von-prof-dr-bettina-wahrig-eine-kleine-geschichte-des-
 frauenkoerpers-in-dreizehn-stuecken\nWissenschaftshistorisches Kolloquium 
 - Institut für Geschichte der Pharmazie und Medizin
LAST-MODIFIED:20240425T122617Z
LOCATION:Hörsaal des Institutsgebäudes\, Roter Graben 10\, 35037 Marburg
  oder online.
URL:https://www.uni-marburg.de/de/fb16/igphmmr/aktuelles/termine/termine-2
 024/vortrag-von-prof-dr-bettina-wahrig-eine-kleine-geschichte-des-frauenko
 erpers-in-dreizehn-stuecken
END:VEVENT
BEGIN:VTIMEZONE
TZID:Europe/Berlin
X-LIC-LOCATION:Europe/Berlin
BEGIN:DAYLIGHT
DTSTART:20240331T030000
TZNAME:CEST
TZOFFSETFROM:+0100
TZOFFSETTO:+0200
END:DAYLIGHT
END:VTIMEZONE
END:VCALENDAR
