BEGIN:VCALENDAR
VERSION:2.0
PRODID:-//Plone.org//NONSGML plone.app.event//EN
X-WR-TIMEZONE:Europe/Berlin
BEGIN:VEVENT
SUMMARY:Dr. Christiane Staiger: "Die Pharmazie in der Unterhaltungsmusik 
 – Beispiele aus einer pharmazeutischen Playlist"
DTSTART;TZID=Europe/Berlin:20250115T181500
DTEND;TZID=Europe/Berlin:20250115T194500
DTSTAMP:20260423T020107Z
UID:6ca390b330594ae286d476b5d7b14800@www.uni-marburg.de
ATTENDEE;CN="Dr. Christiane Staiger";ROLE=REQ-PARTICIPANT:Dr. Christiane S
 taiger
CATEGORIES:Wissenschaftshistorisches Kolloquium,Vortrag,Medizingeschichte,
 Pharmaziegeschichte,Geschichte der Medizin,Geschichte der Pharmazie,Instit
 ut für Geschichte der Pharmazie und Medizin
CREATED:20241008T111726Z
DESCRIPTION:https://www.uni-marburg.de/de/fb16/igphmmr/aktuelles/termine/t
 ermine-2025/2025-01-15-vortrag-staiger\nVortrag im Rahmen des Wissenschaft
 shistorischen Kolloquiums am Institut für Geschichte der Pharmazie und Me
 dizin
LAST-MODIFIED:20250604T125713Z
LOCATION:Hörsaal\, Roter Graben 10\, 35037 Marburg
URL:https://www.uni-marburg.de/de/fb16/igphmmr/aktuelles/termine/termine-2
 025/2025-01-15-vortrag-staiger
END:VEVENT
BEGIN:VTIMEZONE
TZID:Europe/Berlin
X-LIC-LOCATION:Europe/Berlin
BEGIN:STANDARD
DTSTART:20241027T020000
TZNAME:CET
TZOFFSETFROM:+0200
TZOFFSETTO:+0100
END:STANDARD
END:VTIMEZONE
END:VCALENDAR
