BEGIN:VCALENDAR
VERSION:2.0
PRODID:-//Plone.org//NONSGML plone.app.event//EN
X-WR-TIMEZONE:Europe/Berlin
BEGIN:VEVENT
SUMMARY:Prof. Dr. Karen Nolte und Dr. Sara Doll: "Zugang gestalten – Hei
 delberger Projekt zum Umgang mit Human Remains in der Ausstellungs- und Le
 hrpraxis" und "Interdisziplinäre Provenienzrecherche mit neuen Techniken.
  Wie der Schwarze Jonas zum Schinderhannes wurde"
DTSTART;TZID=Europe/Berlin:20250122T181500
DTEND;TZID=Europe/Berlin:20250122T194500
DTSTAMP:20260424T012201Z
UID:75f5a064c00c4dfeaddf6a02e7c797ca@www.uni-marburg.de
ATTENDEE;CN="Prof. Dr. Karen Nolte und Dr. Sara Doll, beide Universität H
 eidelberg";ROLE=REQ-PARTICIPANT:Prof. Dr. Karen Nolte und Dr. Sara Doll, b
 eide Universität Heidelberg
CATEGORIES:Wissenschaftshistorisches Kolloquium,Vortrag,Medizingeschichte,
 Pharmaziegeschichte,Geschichte der Medizin,Geschichte der Pharmazie,Instit
 ut für Geschichte der Pharmazie und Medizin
CREATED:20241008T111726Z
DESCRIPTION:https://www.uni-marburg.de/de/fb16/igphmmr/aktuelles/termine/t
 ermine-2025/2025-01-22-vortrag-nolte-doll\nVortrag im Rahmen des Wissensch
 aftshistorischen Kolloquiums am Institut für Geschichte der Pharmazie und
  Medizin
LAST-MODIFIED:20250604T125714Z
LOCATION:Hörsaal\, Roter Graben 10\, 35037 Marburg
URL:https://www.uni-marburg.de/de/fb16/igphmmr/aktuelles/termine/termine-2
 025/2025-01-22-vortrag-nolte-doll
END:VEVENT
BEGIN:VTIMEZONE
TZID:Europe/Berlin
X-LIC-LOCATION:Europe/Berlin
BEGIN:STANDARD
DTSTART:20241027T020000
TZNAME:CET
TZOFFSETFROM:+0200
TZOFFSETTO:+0100
END:STANDARD
END:VTIMEZONE
END:VCALENDAR
