BEGIN:VCALENDAR
VERSION:2.0
PRODID:-//Plone.org//NONSGML plone.app.event//EN
X-WR-TIMEZONE:Europe/Berlin
BEGIN:VEVENT
SUMMARY:Dr. Manfred Fankhauser: "Die Wiederentdeckung von Cannabis in der 
 Medizin"
DTSTART;TZID=Europe/Berlin:20250310T181500
DTEND;TZID=Europe/Berlin:20250310T194500
DTSTAMP:20260421T133909Z
UID:d915133432a140a3bc5577839fa3f93f@www.uni-marburg.de
ATTENDEE;CN="Dr. Manfred Fankhauser, Bahnhof Apotheke Langnau AG";ROLE=REQ
 -PARTICIPANT:Dr. Manfred Fankhauser, Bahnhof Apotheke Langnau AG
CATEGORIES:Wissenschaftshistorisches Kolloquium,Vortrag,Medizingeschichte,
 Pharmaziegeschichte,Geschichte der Medizin,Geschichte der Pharmazie,Instit
 ut für Geschichte der Pharmazie und Medizin
CREATED:20241008T111726Z
DESCRIPTION:https://www.uni-marburg.de/de/fb16/igphmmr/aktuelles/termine/t
 ermine-2025/2025-03-10-vortrag-fankhauser\nVortrag im Rahmen der Vortragsr
 eihe der DPhG-Landesgruppe Hessen\, Untergruppe Marburg.
LAST-MODIFIED:20250604T125715Z
LOCATION:Großer Hörsaal\, Institut für Pharmazeutische Chemie\, Marbach
 er Weg 10\, 35037 Marburg
URL:https://www.uni-marburg.de/de/fb16/igphmmr/aktuelles/termine/termine-2
 025/2025-03-10-vortrag-fankhauser
END:VEVENT
BEGIN:VTIMEZONE
TZID:Europe/Berlin
X-LIC-LOCATION:Europe/Berlin
BEGIN:STANDARD
DTSTART:20241027T020000
TZNAME:CET
TZOFFSETFROM:+0200
TZOFFSETTO:+0100
END:STANDARD
END:VTIMEZONE
END:VCALENDAR
