BEGIN:VCALENDAR
VERSION:2.0
PRODID:-//Plone.org//NONSGML plone.app.event//EN
X-WR-TIMEZONE:Europe/Berlin
BEGIN:VEVENT
SUMMARY:PD Dr. Janina Wellmann: Entwicklungszeiten.  Embryologie\, Entwick
 lung und organische Zeit
DTSTART;TZID=Europe/Berlin:20260617T181500
DTEND;TZID=Europe/Berlin:20260617T194500
DTSTAMP:20260425T194908Z
UID:c3ff19b08e9f450bb69c74464a3ef6dd@www.uni-marburg.de
ATTENDEE;CN="PD Dr. Janina Wellmann";ROLE=REQ-PARTICIPANT:PD Dr. Janina We
 llmann
CREATED:20260423T115734Z
DESCRIPTION:https://www.uni-marburg.de/de/fb16/igphmmr/aktuelles/termine/t
 ermine-2026/pd-dr-janina-wellmann-entwicklungszeiten-embryologie-entwicklu
 ng-und-organische-zeit\nVortrag im Rahmen des Wissenschaftshistorischen Ko
 lloquiums am Institut für Geschichte der Pharmazie und Medizin
LAST-MODIFIED:20260423T115812Z
LOCATION:Hörsaal\, Roter Graben 10\, 35037 Marburg
URL:https://www.uni-marburg.de/de/fb16/igphmmr/aktuelles/termine/termine-2
 026/pd-dr-janina-wellmann-entwicklungszeiten-embryologie-entwicklung-und-o
 rganische-zeit
END:VEVENT
BEGIN:VTIMEZONE
TZID:Europe/Berlin
X-LIC-LOCATION:Europe/Berlin
BEGIN:DAYLIGHT
DTSTART:20260329T030000
TZNAME:CEST
TZOFFSETFROM:+0100
TZOFFSETTO:+0200
END:DAYLIGHT
END:VTIMEZONE
END:VCALENDAR
