BEGIN:VCALENDAR
VERSION:2.0
PRODID:-//Plone.org//NONSGML plone.app.event//EN
X-WR-TIMEZONE:Europe/Berlin
BEGIN:VEVENT
SUMMARY:Temitope Christopher Fagunwa\, PhD: Residual Histories and the Med
 ieval Formation of Black Representation in European Pharmacy
DTSTART;TZID=Europe/Berlin:20260429T181500
DTEND;TZID=Europe/Berlin:20260429T194500
DTSTAMP:20260426T034135Z
UID:ac798b0ac328433a831f80470cab9c7c@www.uni-marburg.de
ATTENDEE;CN="Temitope Christopher Fagunwa, PhD";ROLE=REQ-PARTICIPANT:Temit
 ope Christopher Fagunwa, PhD
CATEGORIES:()
CREATED:20260414T113946Z
DESCRIPTION:https://www.uni-marburg.de/de/fb16/igphmmr/aktuelles/termine/t
 ermine-2026/temitope-christopger-fagunwa-phd-residual-histories-and-the-me
 dieval-formation-of-black-representation-in-european-pharmacy\nVortrag im 
 Rahmen des Wissenschaftshistorischen Kolloquiums am Institut für Geschich
 te der Pharmazie und Medizin
LAST-MODIFIED:20260415T144700Z
LOCATION:Hörsaal\, Roter Graben 10\, 35037 Marburg
URL:https://www.uni-marburg.de/de/fb16/igphmmr/aktuelles/termine/termine-2
 026/temitope-christopger-fagunwa-phd-residual-histories-and-the-medieval-f
 ormation-of-black-representation-in-european-pharmacy
END:VEVENT
BEGIN:VTIMEZONE
TZID:Europe/Berlin
X-LIC-LOCATION:Europe/Berlin
BEGIN:DAYLIGHT
DTSTART:20260329T030000
TZNAME:CEST
TZOFFSETFROM:+0100
TZOFFSETTO:+0200
END:DAYLIGHT
END:VTIMEZONE
END:VCALENDAR
