BEGIN:VCALENDAR
VERSION:2.0
PRODID:-//Plone.org//NONSGML plone.app.event//EN
X-WR-TIMEZONE:Europe/Berlin
BEGIN:VEVENT
SUMMARY:Structure-based anti-infective discovery
DTSTART;TZID=Europe/Berlin:20190128T171500
DTSTAMP:20260422T162603Z
UID:ca2faaeea43a4f8e8897d2474b01d223@www.uni-marburg.de
ATTENDEE;CN="Prof. Dr. Anna K. H. Hirsch";ROLE=REQ-PARTICIPANT:Prof. Dr. A
 nna K. H. Hirsch
ATTENDEE;CN="Helmholtz Institut für Pharmazeutische Forschung, Saarbrück
 en";ROLE=REQ-PARTICIPANT:Helmholtz Institut für Pharmazeutische Forschung
 , Saarbrücken
CREATED:20180731T073310Z
DESCRIPTION:https://www.uni-marburg.de/de/fb16/ipc/aktuelles/events/2019/d
 phg_2019-01-28\nDPhG-Vortrag WS 2018/19
LAST-MODIFIED:20180731T073330Z
LOCATION:Kleiner Hörsaal\, Institut für Pharmazeutische Chemie\, Marbach
 er Weg 6
URL:https://www.uni-marburg.de/de/fb16/ipc/aktuelles/events/2019/dphg_2019
 -01-28
END:VEVENT
BEGIN:VTIMEZONE
TZID:Europe/Berlin
X-LIC-LOCATION:Europe/Berlin
BEGIN:STANDARD
DTSTART:20181028T020000
TZNAME:CET
TZOFFSETFROM:+0200
TZOFFSETTO:+0100
END:STANDARD
END:VTIMEZONE
END:VCALENDAR
