BEGIN:VCALENDAR
VERSION:2.0
PRODID:-//Plone.org//NONSGML plone.app.event//EN
X-WR-TIMEZONE:Europe/Berlin
BEGIN:VEVENT
SUMMARY:Repair of non-natural RNA modifications in bacteria
DTSTART;TZID=Europe/Berlin:20190204T171500
DTSTAMP:20260422T023741Z
UID:c51ec937108840f1bbd5490d851c242a@www.uni-marburg.de
ATTENDEE;CN="Dr. Stefanie Kellner";ROLE=REQ-PARTICIPANT:Dr. Stefanie Kelln
 er
ATTENDEE;CN="Ludwig-Maximilians-Universität München";ROLE=REQ-PARTICIPAN
 T:Ludwig-Maximilians-Universität München
CREATED:20181219T131440Z
DESCRIPTION:https://www.uni-marburg.de/de/fb16/ipc/aktuelles/events/2019/d
 phg_2019-02-11\nDPhG-Vortrag WS 2018/19
LAST-MODIFIED:20190110T084025Z
LOCATION:Kleiner Hörsaal\, Institut für Pharmazeutische Chemie\, Marbach
 er Weg 6
URL:https://www.uni-marburg.de/de/fb16/ipc/aktuelles/events/2019/dphg_2019
 -02-11
END:VEVENT
BEGIN:VTIMEZONE
TZID:Europe/Berlin
X-LIC-LOCATION:Europe/Berlin
BEGIN:STANDARD
DTSTART:20181028T020000
TZNAME:CET
TZOFFSETFROM:+0200
TZOFFSETTO:+0100
END:STANDARD
END:VTIMEZONE
END:VCALENDAR
