BEGIN:VCALENDAR
VERSION:2.0
PRODID:-//Plone.org//NONSGML plone.app.event//EN
X-WR-TIMEZONE:Europe/Berlin
BEGIN:VEVENT
SUMMARY:Hypericum (Johanniskraut) biotechnology
DTSTART;TZID=Europe/Berlin:20190527T171500
DTSTAMP:20260423T015251Z
UID:260bb30e01c34aa5a3783bd0c15b5917@www.uni-marburg.de
ATTENDEE;CN="Prof. Dr. Ludger Beerhues";ROLE=REQ-PARTICIPANT:Prof. Dr. Lud
 ger Beerhues
ATTENDEE;CN="Technische Universität Braunschweig";ROLE=REQ-PARTICIPANT:Te
 chnische Universität Braunschweig
CREATED:20190416T123438Z
DESCRIPTION:https://www.uni-marburg.de/de/fb16/ipc/aktuelles/events/2019/d
 phg_2019-05-27\nDPhG-Vortrag SS 2019
LAST-MODIFIED:20190416T123506Z
LOCATION:Kleiner Hörsaal\, Institut für Pharmazeutische Chemie\, Marbach
 er Weg 6
URL:https://www.uni-marburg.de/de/fb16/ipc/aktuelles/events/2019/dphg_2019
 -05-27
END:VEVENT
BEGIN:VTIMEZONE
TZID:Europe/Berlin
X-LIC-LOCATION:Europe/Berlin
BEGIN:DAYLIGHT
DTSTART:20190331T030000
TZNAME:CEST
TZOFFSETFROM:+0100
TZOFFSETTO:+0200
END:DAYLIGHT
END:VTIMEZONE
END:VCALENDAR
