BEGIN:VCALENDAR
VERSION:2.0
PRODID:-//Plone.org//NONSGML plone.app.event//EN
X-WR-TIMEZONE:Europe/Berlin
BEGIN:VEVENT
SUMMARY:Aus der Anatomie in die Therapie: Calcaria chlorata und Liquor Alu
 minii acetici
DTSTART;TZID=Europe/Berlin:20190701T171500
DTSTAMP:20260422T023653Z
UID:547d327a298a431bbfec171214b027f6@www.uni-marburg.de
ATTENDEE;CN="Dr. Ursula Lang";ROLE=REQ-PARTICIPANT:Dr. Ursula Lang
ATTENDEE;CN="Philipps-Universität Marburg";ROLE=REQ-PARTICIPANT:Philipps-
 Universität Marburg
CREATED:20190416T124411Z
DESCRIPTION:https://www.uni-marburg.de/de/fb16/ipc/aktuelles/events/2019/d
 phg_2019-07-01\nDPhG-Vortrag SS 2019
LAST-MODIFIED:20190416T124431Z
LOCATION:Kleiner Hörsaal\, Institut für Pharmazeutische Chemie\, Marbach
 er Weg 6
URL:https://www.uni-marburg.de/de/fb16/ipc/aktuelles/events/2019/dphg_2019
 -07-01
END:VEVENT
BEGIN:VTIMEZONE
TZID:Europe/Berlin
X-LIC-LOCATION:Europe/Berlin
BEGIN:DAYLIGHT
DTSTART:20190331T030000
TZNAME:CEST
TZOFFSETFROM:+0100
TZOFFSETTO:+0200
END:DAYLIGHT
END:VTIMEZONE
END:VCALENDAR
