BEGIN:VCALENDAR
VERSION:2.0
PRODID:-//Plone.org//NONSGML plone.app.event//EN
X-WR-TIMEZONE:Europe/Berlin
BEGIN:VEVENT
SUMMARY:Aus der Schmelze in die Form
DTSTART;TZID=Europe/Berlin:20190715T171500
DTSTAMP:20260423T015311Z
UID:8955254659634c8b8e1a220cab7c8ea0@www.uni-marburg.de
ATTENDEE;CN="PD Dr. Hubert Rein";ROLE=REQ-PARTICIPANT:PD Dr. Hubert Rein
ATTENDEE;CN="Rheinische Friedrich-Wilhelms-Universität Bonn";ROLE=REQ-PAR
 TICIPANT:Rheinische Friedrich-Wilhelms-Universität Bonn
CREATED:20190416T124602Z
DESCRIPTION:https://www.uni-marburg.de/de/fb16/ipc/aktuelles/events/2019/d
 phg_2019-07-15\nDPhG-Vortrag SS 2019
LAST-MODIFIED:20190416T124625Z
LOCATION:Kleiner Hörsaal\, Institut für Pharmazeutische Chemie\, Marbach
 er Weg 6
URL:https://www.uni-marburg.de/de/fb16/ipc/aktuelles/events/2019/dphg_2019
 -07-15
END:VEVENT
BEGIN:VTIMEZONE
TZID:Europe/Berlin
X-LIC-LOCATION:Europe/Berlin
BEGIN:DAYLIGHT
DTSTART:20190331T030000
TZNAME:CEST
TZOFFSETFROM:+0100
TZOFFSETTO:+0200
END:DAYLIGHT
END:VTIMEZONE
END:VCALENDAR
