BEGIN:VCALENDAR
VERSION:2.0
PRODID:-//Plone.org//NONSGML plone.app.event//EN
X-WR-TIMEZONE:Europe/Berlin
BEGIN:VEVENT
SUMMARY:Using chicken embryos as an alternative to mammalian models for th
 e evaluation of nanoscaled formulations
DTSTART;TZID=Europe/Berlin:20191014T171500
DTSTAMP:20260423T015305Z
UID:f295e7fe654344b1a69633b63ad74aff@www.uni-marburg.de
ATTENDEE;CN="Dr. Jamila Jedelská, Philipps-Universität Marburg";ROLE=REQ
 -PARTICIPANT:Dr. Jamila Jedelská, Philipps-Universität Marburg
CREATED:20191001T123303Z
DESCRIPTION:https://www.uni-marburg.de/de/fb16/ipc/aktuelles/events/2019/d
 phg_2019-10-14\nDPhG-Vortrag WS 2019/20
LAST-MODIFIED:20191001T124928Z
LOCATION:Kleiner Hörsaal\, Institut für Pharmazeutische Chemie\, Marbach
 er Weg 6
URL:https://www.uni-marburg.de/de/fb16/ipc/aktuelles/events/2019/dphg_2019
 -10-14
END:VEVENT
BEGIN:VTIMEZONE
TZID:Europe/Berlin
X-LIC-LOCATION:Europe/Berlin
BEGIN:DAYLIGHT
DTSTART:20190331T030000
TZNAME:CEST
TZOFFSETFROM:+0100
TZOFFSETTO:+0200
END:DAYLIGHT
END:VTIMEZONE
END:VCALENDAR
