BEGIN:VCALENDAR
VERSION:2.0
PRODID:-//Plone.org//NONSGML plone.app.event//EN
X-WR-TIMEZONE:Europe/Berlin
BEGIN:VEVENT
SUMMARY:Warum sind Pflanzen so virtuose Chemikerinnen?
DTSTART;TZID=Europe/Berlin:20191104T171500
DTSTAMP:20260422T120646Z
UID:3a5484432bc74369ae2436c03c7f62b9@www.uni-marburg.de
ATTENDEE;CN="Prof. Dr. Wolfgang Kreis, Friedrich-Alexander Universität Er
 langen Nürnberg";ROLE=REQ-PARTICIPANT:Prof. Dr. Wolfgang Kreis, Friedrich
 -Alexander Universität Erlangen Nürnberg
CREATED:20191001T123916Z
DESCRIPTION:https://www.uni-marburg.de/de/fb16/ipc/aktuelles/events/2019/d
 phg_2019-11-04\nDPhG-Vortrag WS 2019/20
LAST-MODIFIED:20191001T125044Z
LOCATION:Kleiner Hörsaal\, Institut für Pharmazeutische Chemie\, Marbach
 er Weg 6
URL:https://www.uni-marburg.de/de/fb16/ipc/aktuelles/events/2019/dphg_2019
 -11-04
END:VEVENT
BEGIN:VTIMEZONE
TZID:Europe/Berlin
X-LIC-LOCATION:Europe/Berlin
BEGIN:STANDARD
DTSTART:20191027T020000
TZNAME:CET
TZOFFSETFROM:+0200
TZOFFSETTO:+0100
END:STANDARD
END:VTIMEZONE
END:VCALENDAR
