BEGIN:VCALENDAR
VERSION:2.0
PRODID:-//Plone.org//NONSGML plone.app.event//EN
X-WR-TIMEZONE:Europe/Berlin
BEGIN:VEVENT
SUMMARY:Genome-assisted discovery of new bioactive compounds in bacteria: 
 the dawn of a golden age or just empty promises?
DTSTART;TZID=Europe/Berlin:20200127T171500
DTSTAMP:20260422T023738Z
UID:8241ea4af3e044fd877e880fdaae03a3@www.uni-marburg.de
ATTENDEE;CN="Prof. Dr. Leonard Kaysser, Universität Tübingen";ROLE=REQ-P
 ARTICIPANT:Prof. Dr. Leonard Kaysser, Universität Tübingen
CREATED:20191001T124751Z
DESCRIPTION:https://www.uni-marburg.de/de/fb16/ipc/aktuelles/events/2020/d
 phg_2020-01-27\nDPhG-Vortrag WS 2019/20
LAST-MODIFIED:20191001T124825Z
LOCATION:Kleiner Hörsaal\, Institut für Pharmazeutische Chemie\, Marbach
 er Weg 6
URL:https://www.uni-marburg.de/de/fb16/ipc/aktuelles/events/2020/dphg_2020
 -01-27
END:VEVENT
BEGIN:VTIMEZONE
TZID:Europe/Berlin
X-LIC-LOCATION:Europe/Berlin
BEGIN:STANDARD
DTSTART:20191027T020000
TZNAME:CET
TZOFFSETFROM:+0200
TZOFFSETTO:+0100
END:STANDARD
END:VTIMEZONE
END:VCALENDAR
