BEGIN:VCALENDAR
VERSION:2.0
PRODID:-//Plone.org//NONSGML plone.app.event//EN
X-WR-TIMEZONE:Europe/Berlin
BEGIN:VEVENT
SUMMARY:Cystic fibrosis transmembrane conductance regulator drugs: novel a
 venues for cystic fibrosis treatment
DTSTART;TZID=Europe/Berlin:20200302T171500
DTSTAMP:20260422T023942Z
UID:a52b34fe8c9247abb8c5e39c80b103c4@www.uni-marburg.de
ATTENDEE;CN="Dr. Elena K. Schneider-Futschik";ROLE=REQ-PARTICIPANT:Dr. Ele
 na K. Schneider-Futschik
ATTENDEE;CN="Universität Melbourne, Australien";ROLE=REQ-PARTICIPANT:Univ
 ersität Melbourne, Australien
CREATED:20200220T075530Z
DESCRIPTION:https://www.uni-marburg.de/de/fb16/ipc/aktuelles/events/2020/d
 phg_2020-03-02\nDPhG-Vortrag WS 2019/20
LAST-MODIFIED:20200220T075655Z
LOCATION:Kleiner Hörsaal\, Institut für Pharmazeutische Chemie\, Marbach
 er Weg 6
URL:https://www.uni-marburg.de/de/fb16/ipc/aktuelles/events/2020/dphg_2020
 -03-02
END:VEVENT
BEGIN:VTIMEZONE
TZID:Europe/Berlin
X-LIC-LOCATION:Europe/Berlin
BEGIN:STANDARD
DTSTART:20191027T020000
TZNAME:CET
TZOFFSETFROM:+0200
TZOFFSETTO:+0100
END:STANDARD
END:VTIMEZONE
END:VCALENDAR
