BEGIN:VCALENDAR
VERSION:2.0
PRODID:-//Plone.org//NONSGML plone.app.event//EN
X-WR-TIMEZONE:Europe/Berlin
BEGIN:VEVENT
SUMMARY:Hybrid molecules against Alzheimer’s disease
DTSTART;TZID=Europe/Berlin:20201109T180000
DTSTAMP:20260423T024726Z
UID:bb6cb183350f4e8ea12281204366ec6d@www.uni-marburg.de
ATTENDEE;CN="Prof. Dr. Michael Decker, Julius-Maximilians-Universität Wü
 rzburg";ROLE=REQ-PARTICIPANT:Prof. Dr. Michael Decker, Julius-Maximilians-
 Universität Würzburg
CREATED:20201103T121236Z
DESCRIPTION:https://www.uni-marburg.de/de/fb16/ipc/aktuelles/events/2020/d
 phg_2020-11-09\nDPhG-Vortrag im Wintersemester 2020/2021
LAST-MODIFIED:20201103T130816Z
LOCATION:Online-Seminar
URL:https://www.uni-marburg.de/de/fb16/ipc/aktuelles/events/2020/dphg_2020
 -11-09
END:VEVENT
BEGIN:VTIMEZONE
TZID:Europe/Berlin
X-LIC-LOCATION:Europe/Berlin
BEGIN:STANDARD
DTSTART:20201025T020000
TZNAME:CET
TZOFFSETFROM:+0200
TZOFFSETTO:+0100
END:STANDARD
END:VTIMEZONE
END:VCALENDAR
