BEGIN:VCALENDAR
VERSION:2.0
PRODID:-//Plone.org//NONSGML plone.app.event//EN
X-WR-TIMEZONE:Europe/Berlin
BEGIN:VEVENT
SUMMARY:Von Aspirin zum Alemtuzumab – was bedeuten die Namen unserer Arz
 neimittel?
DTSTART;TZID=Europe/Berlin:20201123T180000
DTSTAMP:20260422T023953Z
UID:63f98fe74dc840a4b5f7c25395f5d033@www.uni-marburg.de
ATTENDEE;CN="Prof. Dr. Axel Helmstädter, Avoxa Mediengruppe Deutscher Apo
 theker GmbH, Eschborn";ROLE=REQ-PARTICIPANT:Prof. Dr. Axel Helmstädter, A
 voxa Mediengruppe Deutscher Apotheker GmbH, Eschborn
CREATED:20201103T132459Z
DESCRIPTION:https://www.uni-marburg.de/de/fb16/ipc/aktuelles/events/2020/d
 phg_2020-11-23\nDPhG-Vortrag im Wintersemester 2020/2021
LAST-MODIFIED:20201103T132513Z
LOCATION:Online-Seminar
URL:https://www.uni-marburg.de/de/fb16/ipc/aktuelles/events/2020/dphg_2020
 -11-23
END:VEVENT
BEGIN:VTIMEZONE
TZID:Europe/Berlin
X-LIC-LOCATION:Europe/Berlin
BEGIN:STANDARD
DTSTART:20201025T020000
TZNAME:CET
TZOFFSETFROM:+0200
TZOFFSETTO:+0100
END:STANDARD
END:VTIMEZONE
END:VCALENDAR
