BEGIN:VCALENDAR
VERSION:2.0
PRODID:-//Plone.org//NONSGML plone.app.event//EN
X-WR-TIMEZONE:Europe/Berlin
BEGIN:VEVENT
SUMMARY:Altered GI absorption in special populations – an important fact
  to consider in oral drug development
DTSTART;TZID=Europe/Berlin:20201207T180000
DTSTAMP:20260423T015549Z
UID:849005d3ec0b4c4a95ae92611f45ca78@www.uni-marburg.de
CREATED:20201103T132727Z
DESCRIPTION:https://www.uni-marburg.de/de/fb16/ipc/aktuelles/events/2020/d
 phg_2020-12-07\nDPhG-Vortrag im Wintersemester 2020/2021
LAST-MODIFIED:20201103T132734Z
LOCATION:Online-Seminar
URL:https://www.uni-marburg.de/de/fb16/ipc/aktuelles/events/2020/dphg_2020
 -12-07
END:VEVENT
BEGIN:VTIMEZONE
TZID:Europe/Berlin
X-LIC-LOCATION:Europe/Berlin
BEGIN:STANDARD
DTSTART:20201025T020000
TZNAME:CET
TZOFFSETFROM:+0200
TZOFFSETTO:+0100
END:STANDARD
END:VTIMEZONE
END:VCALENDAR
