BEGIN:VCALENDAR
VERSION:2.0
PRODID:-//Plone.org//NONSGML plone.app.event//EN
X-WR-TIMEZONE:Europe/Berlin
BEGIN:VEVENT
SUMMARY:Moleküle für die Schönheit und Medikamente - eine Annäherung
DTSTART;TZID=Europe/Berlin:20210125T180000
DTSTAMP:20260422T211615Z
UID:a3e1eb30433b429a8b792f804e29e3ec@www.uni-marburg.de
CREATED:20201103T133138Z
DESCRIPTION:https://www.uni-marburg.de/de/fb16/ipc/aktuelles/events/2021/d
 phg_2020-01-25\nDPhG-Vortrag im Wintersemester 2020/2021
LAST-MODIFIED:20201103T133145Z
LOCATION:Online-Seminar
URL:https://www.uni-marburg.de/de/fb16/ipc/aktuelles/events/2021/dphg_2020
 -01-25
END:VEVENT
BEGIN:VTIMEZONE
TZID:Europe/Berlin
X-LIC-LOCATION:Europe/Berlin
BEGIN:STANDARD
DTSTART:20201025T020000
TZNAME:CET
TZOFFSETFROM:+0200
TZOFFSETTO:+0100
END:STANDARD
END:VTIMEZONE
END:VCALENDAR
