BEGIN:VCALENDAR
VERSION:2.0
PRODID:-//Plone.org//NONSGML plone.app.event//EN
X-WR-TIMEZONE:Europe/Berlin
BEGIN:VEVENT
SUMMARY:Cannabis in History\, Science and Society
DTSTART;TZID=Europe/Berlin:20210531T181500
DTSTAMP:20260421T212848Z
UID:ed1627e905584860ab71b1f43eaf32a1@www.uni-marburg.de
ATTENDEE;CN="Prof. Dr. Lucas Richert, University of Wisconsin–Madison";R
 OLE=REQ-PARTICIPANT:Prof. Dr. Lucas Richert, University of Wisconsin–Mad
 ison
CREATED:20210413T072829Z
DESCRIPTION:https://www.uni-marburg.de/de/fb16/ipc/aktuelles/events/2021/d
 phg_2021-05-31\nDPhG-Vortrag im Sommersemester 2021
LAST-MODIFIED:20210527T051027Z
LOCATION:Online
URL:https://www.uni-marburg.de/de/fb16/ipc/aktuelles/events/2021/dphg_2021
 -05-31
END:VEVENT
BEGIN:VTIMEZONE
TZID:Europe/Berlin
X-LIC-LOCATION:Europe/Berlin
BEGIN:DAYLIGHT
DTSTART:20210328T030000
TZNAME:CEST
TZOFFSETFROM:+0100
TZOFFSETTO:+0200
END:DAYLIGHT
END:VTIMEZONE
END:VCALENDAR
