BEGIN:VCALENDAR
VERSION:2.0
PRODID:-//Plone.org//NONSGML plone.app.event//EN
X-WR-TIMEZONE:Europe/Berlin
BEGIN:VEVENT
SUMMARY:Tepotinib – The preclinical story
DTSTART;TZID=Europe/Berlin:20210614T181500
DTSTAMP:20260421T212917Z
UID:1665cc37c8aa4ed78d51127dc710d4a5@www.uni-marburg.de
ATTENDEE;CN="Dr. Oliver Schadt, Merck KGaA, Darmstadt";ROLE=REQ-PARTICIPAN
 T:Dr. Oliver Schadt, Merck KGaA, Darmstadt
CREATED:20210413T073120Z
DESCRIPTION:https://www.uni-marburg.de/de/fb16/ipc/aktuelles/events/2021/d
 phg_2021-06-14\nDPhG-Vortrag im Sommersemester 2021
LAST-MODIFIED:20210610T081859Z
LOCATION:Online
URL:https://www.uni-marburg.de/de/fb16/ipc/aktuelles/events/2021/dphg_2021
 -06-14
END:VEVENT
BEGIN:VTIMEZONE
TZID:Europe/Berlin
X-LIC-LOCATION:Europe/Berlin
BEGIN:DAYLIGHT
DTSTART:20210328T030000
TZNAME:CEST
TZOFFSETFROM:+0100
TZOFFSETTO:+0200
END:DAYLIGHT
END:VTIMEZONE
END:VCALENDAR
