BEGIN:VCALENDAR
VERSION:2.0
PRODID:-//Plone.org//NONSGML plone.app.event//EN
X-WR-TIMEZONE:Europe/Berlin
BEGIN:VEVENT
SUMMARY:Patient Empowerment\, Interprofessionelles Arbeiten\, AMTS-Verbess
 erung: Klinische Pharmazie an der Universität Heidelberg
DTSTART;TZID=Europe/Berlin:20210628T181500
DTSTAMP:20260422T211621Z
UID:af2cb6e3087540e3bf388762a8803b0b@www.uni-marburg.de
ATTENDEE;CN="PD Dr. Hanna Seidling, Universitätsklinikum Heidelberg";ROLE
 =REQ-PARTICIPANT:PD Dr. Hanna Seidling, Universitätsklinikum Heidelberg
CREATED:20210413T073309Z
DESCRIPTION:https://www.uni-marburg.de/de/fb16/ipc/aktuelles/events/2021/d
 phg_2021-06-28\nDPhG-Vortrag im Sommersemester 2021
LAST-MODIFIED:20210624T073710Z
LOCATION:Online
URL:https://www.uni-marburg.de/de/fb16/ipc/aktuelles/events/2021/dphg_2021
 -06-28
END:VEVENT
BEGIN:VTIMEZONE
TZID:Europe/Berlin
X-LIC-LOCATION:Europe/Berlin
BEGIN:DAYLIGHT
DTSTART:20210328T030000
TZNAME:CEST
TZOFFSETFROM:+0100
TZOFFSETTO:+0200
END:DAYLIGHT
END:VTIMEZONE
END:VCALENDAR
