BEGIN:VCALENDAR
VERSION:2.0
PRODID:-//Plone.org//NONSGML plone.app.event//EN
X-WR-TIMEZONE:Europe/Berlin
BEGIN:VEVENT
SUMMARY:Probing the Biased Activation Mechanism of Class A GPCRs by Molecu
 lar Simulations and NMR
DTSTART;TZID=Europe/Berlin:20211115T181500
DTSTAMP:20260424T224648Z
UID:4be14562151c40b09d378e3f6280f1ca@www.uni-marburg.de
ATTENDEE;CN="Xiaojing Cong, PhD, Institute of Functional Genomics Montpell
 ier";ROLE=REQ-PARTICIPANT:Xiaojing Cong, PhD, Institute of Functional Geno
 mics Montpellier
CREATED:20211021T052736Z
DESCRIPTION:https://www.uni-marburg.de/de/fb16/ipc/aktuelles/events/2021/p
 robing-the-biased-activation-mechanism-of-class-a-gpcrs-by-molecular-simul
 ations-and-nmr\nDPhG-Vortrag im Wintersemester 2021/22
LAST-MODIFIED:20211109T064250Z
LOCATION:Online
URL:https://www.uni-marburg.de/de/fb16/ipc/aktuelles/events/2021/probing-t
 he-biased-activation-mechanism-of-class-a-gpcrs-by-molecular-simulations-a
 nd-nmr
END:VEVENT
BEGIN:VTIMEZONE
TZID:Europe/Berlin
X-LIC-LOCATION:Europe/Berlin
BEGIN:STANDARD
DTSTART:20211031T020000
TZNAME:CET
TZOFFSETFROM:+0200
TZOFFSETTO:+0100
END:STANDARD
END:VTIMEZONE
END:VCALENDAR
