BEGIN:VCALENDAR
VERSION:2.0
PRODID:-//Plone.org//NONSGML plone.app.event//EN
X-WR-TIMEZONE:Europe/Berlin
BEGIN:VEVENT
SUMMARY:Twists and Turns (Non-Helical) on the Transcriptional Road to Ferr
 optotic Neuronal Death: Implications for Brain Protection and Repair (im R
 ahmen der Seminarserie des CMBB)
DTSTART;TZID=Europe/Berlin:20211025T181500
DTSTAMP:20260424T093916Z
UID:c3c9f4a5f92f42c893e34dd3552dd287@www.uni-marburg.de
ATTENDEE;CN="Rajiv Ratan, MD, PhD, Burke Neurological Institute";ROLE=REQ-
 PARTICIPANT:Rajiv Ratan, MD, PhD, Burke Neurological Institute
CREATED:20210929T091907Z
DESCRIPTION:https://www.uni-marburg.de/de/fb16/ipc/aktuelles/events/2021/t
 ba-im-rahmen-der-seminarserie-des-cmbb\nDPhG-Vortrag im Wintersemester 202
 1/22
LAST-MODIFIED:20211019T104308Z
LOCATION:Online
URL:https://www.uni-marburg.de/de/fb16/ipc/aktuelles/events/2021/tba-im-ra
 hmen-der-seminarserie-des-cmbb
END:VEVENT
BEGIN:VTIMEZONE
TZID:Europe/Berlin
X-LIC-LOCATION:Europe/Berlin
BEGIN:DAYLIGHT
DTSTART:20210328T030000
TZNAME:CEST
TZOFFSETFROM:+0100
TZOFFSETTO:+0200
END:DAYLIGHT
END:VTIMEZONE
END:VCALENDAR
