BEGIN:VCALENDAR
VERSION:2.0
PRODID:-//Plone.org//NONSGML plone.app.event//EN
X-WR-TIMEZONE:Europe/Berlin
BEGIN:VEVENT
SUMMARY:Forschung in der patientenorientierten Pharmazie – Projekte von 
 der Apotheke über Pflegeeinrichtungen und das Krankenhaus bis hin zu Schn
 ittstellen
DTSTART;TZID=Europe/Berlin:20220425T181500
DTSTAMP:20260422T024244Z
UID:c58b9f4746cb44c08bdd53f334acbec9@www.uni-marburg.de
ATTENDEE;CN="Prof. Dr. Thilo Bertsche, Universität Leipzig";ROLE=REQ-PART
 ICIPANT:Prof. Dr. Thilo Bertsche, Universität Leipzig
CREATED:20220412T071403Z
DESCRIPTION:https://www.uni-marburg.de/de/fb16/ipc/aktuelles/events/2022/d
 phg_2022-04-25\nDPhG-Vortrag im Sommersemester 2022
LAST-MODIFIED:20220419T133751Z
LOCATION:Online
URL:https://www.uni-marburg.de/de/fb16/ipc/aktuelles/events/2022/dphg_2022
 -04-25
END:VEVENT
BEGIN:VTIMEZONE
TZID:Europe/Berlin
X-LIC-LOCATION:Europe/Berlin
BEGIN:DAYLIGHT
DTSTART:20220327T030000
TZNAME:CEST
TZOFFSETFROM:+0100
TZOFFSETTO:+0200
END:DAYLIGHT
END:VTIMEZONE
END:VCALENDAR
