BEGIN:VCALENDAR
VERSION:2.0
PRODID:-//Plone.org//NONSGML plone.app.event//EN
X-WR-TIMEZONE:Europe/Berlin
BEGIN:VEVENT
SUMMARY:Podiumsdiskussion ‚Frauen in Führungsrollen in der Wissenschaft
 ‘
DTSTART;TZID=Europe/Berlin:20220609T181500
DTSTAMP:20260422T060434Z
UID:9c355b649abb45f1bb47285d4f76b58c@www.uni-marburg.de
ATTENDEE;CN="Prof. Dr. Marylyn Addo, Universitätsklinikum Hamburg-Eppendo
 rf";ROLE=REQ-PARTICIPANT:Prof. Dr. Marylyn Addo, Universitätsklinikum Ham
 burg-Eppendorf
ATTENDEE;CN="Prof. Dr. Isabelle Bekeredjian-Ding, Paul-Ehrlich-Institut";R
 OLE=REQ-PARTICIPANT:Prof. Dr. Isabelle Bekeredjian-Ding, Paul-Ehrlich-Inst
 itut
ATTENDEE;CN="Dr. Silke Huster, Rottendorf Pharma";ROLE=REQ-PARTICIPANT:Dr.
  Silke Huster, Rottendorf Pharma
ATTENDEE;CN="Prof. Dr. Tanja Schirmeister, Johannes Gutenberg-Universität
  Mainz";ROLE=REQ-PARTICIPANT:Prof. Dr. Tanja Schirmeister, Johannes Gutenb
 erg-Universität Mainz
CREATED:20220412T073124Z
DESCRIPTION:https://www.uni-marburg.de/de/fb16/ipc/aktuelles/events/2022/d
 phg_2022-06-09\nDPhG-Vortrag im Sommersemester 2022
LAST-MODIFIED:20220412T073751Z
LOCATION:Online
URL:https://www.uni-marburg.de/de/fb16/ipc/aktuelles/events/2022/dphg_2022
 -06-09
END:VEVENT
BEGIN:VTIMEZONE
TZID:Europe/Berlin
X-LIC-LOCATION:Europe/Berlin
BEGIN:DAYLIGHT
DTSTART:20220327T030000
TZNAME:CEST
TZOFFSETFROM:+0100
TZOFFSETTO:+0200
END:DAYLIGHT
END:VTIMEZONE
END:VCALENDAR
