BEGIN:VCALENDAR
VERSION:2.0
PRODID:-//Plone.org//NONSGML plone.app.event//EN
X-WR-TIMEZONE:Europe/Berlin
BEGIN:VEVENT
SUMMARY:Cyanotoxins – important ecotoxins and leads for drug development
DTSTART;TZID=Europe/Berlin:20220711T181500
DTSTAMP:20260422T024249Z
UID:e9c89646f3c34bb0be095ef44c097eee@www.uni-marburg.de
ATTENDEE;CN="Prof. Dr. Timo Niedermeyer, Martin-Luther-Universität Halle-
 Wittenberg";ROLE=REQ-PARTICIPANT:Prof. Dr. Timo Niedermeyer, Martin-Luther
 -Universität Halle-Wittenberg
CREATED:20220412T073645Z
DESCRIPTION:https://www.uni-marburg.de/de/fb16/ipc/aktuelles/events/2022/d
 phg_2022-07-11\nDPhG-Vortrag im Sommersemester 2022
LAST-MODIFIED:20220705T054419Z
LOCATION:Online
URL:https://www.uni-marburg.de/de/fb16/ipc/aktuelles/events/2022/dphg_2022
 -07-11
END:VEVENT
BEGIN:VTIMEZONE
TZID:Europe/Berlin
X-LIC-LOCATION:Europe/Berlin
BEGIN:DAYLIGHT
DTSTART:20220327T030000
TZNAME:CEST
TZOFFSETFROM:+0100
TZOFFSETTO:+0200
END:DAYLIGHT
END:VTIMEZONE
END:VCALENDAR
