BEGIN:VCALENDAR
VERSION:2.0
PRODID:-//Plone.org//NONSGML plone.app.event//EN
X-WR-TIMEZONE:Europe/Berlin
BEGIN:VEVENT
SUMMARY:Pharmaceutical Research Using APIs from Expired Drugs
DTSTART;TZID=Europe/Berlin:20240506T180000
DTSTAMP:20260422T024245Z
UID:4d9146ee73a64c3496f9f10e4ee3a3fe@www.uni-marburg.de
ATTENDEE;CN="Prof. Dr. Markus Heinrich, FAU Erlangen-Nürnberg";ROLE=REQ-P
 ARTICIPANT:Prof. Dr. Markus Heinrich, FAU Erlangen-Nürnberg
CREATED:20240426T101338Z
DESCRIPTION:https://www.uni-marburg.de/de/fb16/ipc/aktuelles/events/2024/d
 phg_2024-05-06\nDPhG-Vortrag im Sommersemester 2024
LAST-MODIFIED:20240426T101544Z
LOCATION:Großer Hörsaal\, Institut für Pharmazeutische Chemie\, Marbach
 er Weg 10 (M03)\, 35037 Marburg
URL:https://www.uni-marburg.de/de/fb16/ipc/aktuelles/events/2024/dphg_2024
 -05-06
END:VEVENT
BEGIN:VTIMEZONE
TZID:Europe/Berlin
X-LIC-LOCATION:Europe/Berlin
BEGIN:DAYLIGHT
DTSTART:20240331T030000
TZNAME:CEST
TZOFFSETFROM:+0100
TZOFFSETTO:+0200
END:DAYLIGHT
END:VTIMEZONE
END:VCALENDAR
