BEGIN:VCALENDAR
VERSION:2.0
PRODID:-//Plone.org//NONSGML plone.app.event//EN
X-WR-TIMEZONE:Europe/Berlin
BEGIN:VEVENT
SUMMARY:Temperature-controlled alternative splicing: From mechanistic insi
 ghts to translational research
DTSTART;TZID=Europe/Berlin:20240527T180000
DTSTAMP:20260422T024200Z
UID:48306f8003c4417db24e229bab35f993@www.uni-marburg.de
ATTENDEE;CN="Prof. Dr. Florian Heyd, Freie Universität Berlin";ROLE=REQ-P
 ARTICIPANT:Prof. Dr. Florian Heyd, Freie Universität Berlin
CREATED:20240426T101835Z
DESCRIPTION:https://www.uni-marburg.de/de/fb16/ipc/aktuelles/events/2024/d
 phg_2024-05-27\nDPhG-Vortrag im Sommersemester 2024
LAST-MODIFIED:20240426T112949Z
LOCATION:Großer Hörsaal\, Institut für Pharmazeutische Chemie\, Marbach
 er Weg 10 (M03)\, 35037 Marburg
URL:https://www.uni-marburg.de/de/fb16/ipc/aktuelles/events/2024/dphg_2024
 -05-27
END:VEVENT
BEGIN:VTIMEZONE
TZID:Europe/Berlin
X-LIC-LOCATION:Europe/Berlin
BEGIN:DAYLIGHT
DTSTART:20240331T030000
TZNAME:CEST
TZOFFSETFROM:+0100
TZOFFSETTO:+0200
END:DAYLIGHT
END:VTIMEZONE
END:VCALENDAR
