BEGIN:VCALENDAR
VERSION:2.0
PRODID:-//Plone.org//NONSGML plone.app.event//EN
X-WR-TIMEZONE:Europe/Berlin
BEGIN:VEVENT
SUMMARY:Interactions of β-arrestin2 with β2-adrenergic Receptor: Expecte
 d and Unexpected Quantitative Insights from Atomic Force Microscopy and Mo
 lecular Dynamics Simulations
DTSTART;TZID=Europe/Berlin:20240617T180000
DTSTAMP:20260422T024231Z
UID:c3f3f46e80af4e1eb85b07ca0d098d17@www.uni-marburg.de
ATTENDEE;CN="Dr. Kristyna Pluhackova, University of Stuttgart";ROLE=REQ-PA
 RTICIPANT:Dr. Kristyna Pluhackova, University of Stuttgart
CREATED:20240426T102035Z
DESCRIPTION:https://www.uni-marburg.de/de/fb16/ipc/aktuelles/events/2024/d
 phg_2024-06-17\nDPhG-Vortrag im Sommersemester 2024
LAST-MODIFIED:20240426T102512Z
LOCATION:Großer Hörsaal\, Institut für Pharmazeutische Chemie\, Marbach
 er Weg 10 (M03)\, 35037 Marburg
URL:https://www.uni-marburg.de/de/fb16/ipc/aktuelles/events/2024/dphg_2024
 -06-17
END:VEVENT
BEGIN:VTIMEZONE
TZID:Europe/Berlin
X-LIC-LOCATION:Europe/Berlin
BEGIN:DAYLIGHT
DTSTART:20240331T030000
TZNAME:CEST
TZOFFSETFROM:+0100
TZOFFSETTO:+0200
END:DAYLIGHT
END:VTIMEZONE
END:VCALENDAR
