BEGIN:VCALENDAR
VERSION:2.0
PRODID:-//Plone.org//NONSGML plone.app.event//EN
X-WR-TIMEZONE:Europe/Berlin
BEGIN:VEVENT
SUMMARY:Optimierte Antidepressivatherapie im Klinischen Setting
DTSTART;TZID=Europe/Berlin:20240708T180000
DTSTAMP:20260422T163028Z
UID:f31c22453710436cb848c1526b211854@www.uni-marburg.de
ATTENDEE;CN="Prof. Dr. Sibylle C. Roll, Philipps-Universität Marburg";ROL
 E=REQ-PARTICIPANT:Prof. Dr. Sibylle C. Roll, Philipps-Universität Marburg
CREATED:20240426T102656Z
DESCRIPTION:https://www.uni-marburg.de/de/fb16/ipc/aktuelles/events/2024/d
 phg_2024-07-08\nDPhG-Vortrag im Sommersemester 2024
LAST-MODIFIED:20240426T102736Z
LOCATION:Großer Hörsaal\, Institut für Pharmazeutische Chemie\, Marbach
 er Weg 10 (M03)\, 35037 Marburg
URL:https://www.uni-marburg.de/de/fb16/ipc/aktuelles/events/2024/dphg_2024
 -07-08
END:VEVENT
BEGIN:VTIMEZONE
TZID:Europe/Berlin
X-LIC-LOCATION:Europe/Berlin
BEGIN:DAYLIGHT
DTSTART:20240331T030000
TZNAME:CEST
TZOFFSETFROM:+0100
TZOFFSETTO:+0200
END:DAYLIGHT
END:VTIMEZONE
END:VCALENDAR
