BEGIN:VCALENDAR
VERSION:2.0
PRODID:-//Plone.org//NONSGML plone.app.event//EN
X-WR-TIMEZONE:Europe/Berlin
BEGIN:VEVENT
SUMMARY:Advances and Pitfalls of PET Radiotracer Development for Neurodege
 nerative Disorders
DTSTART;TZID=Europe/Berlin:20241021T181500
DTSTAMP:20260421T225704Z
UID:b38ff5fdb5f946b1ac763fb572548a09@www.uni-marburg.de
ATTENDEE;CN="Dr. Behrooz H. Yousefi, Philipps-Universität Marburg";ROLE=R
 EQ-PARTICIPANT:Dr. Behrooz H. Yousefi, Philipps-Universität Marburg
CREATED:20241009T122513Z
DESCRIPTION:https://www.uni-marburg.de/de/fb16/ipc/aktuelles/events/2024/d
 phg_2024-10-21\nDPhG-Vortrag im Wintersemester 2024/25
LAST-MODIFIED:20241009T122611Z
LOCATION:Großer Hörsaal\, Institut für Pharmazeutische Chemie\, Marbach
 er Weg 10 (M03)\, 35037 Marburg
URL:https://www.uni-marburg.de/de/fb16/ipc/aktuelles/events/2024/dphg_2024
 -10-21
END:VEVENT
BEGIN:VTIMEZONE
TZID:Europe/Berlin
X-LIC-LOCATION:Europe/Berlin
BEGIN:DAYLIGHT
DTSTART:20240331T030000
TZNAME:CEST
TZOFFSETFROM:+0100
TZOFFSETTO:+0200
END:DAYLIGHT
END:VTIMEZONE
END:VCALENDAR
