BEGIN:VCALENDAR
VERSION:2.0
PRODID:-//Plone.org//NONSGML plone.app.event//EN
X-WR-TIMEZONE:Europe/Berlin
BEGIN:VEVENT
SUMMARY:Fun with Functional Groups and Rings
DTSTART;TZID=Europe/Berlin:20241118T181500
DTSTAMP:20260422T120704Z
UID:481a6fa3841a475e85ac87d4ac7b2483@www.uni-marburg.de
ATTENDEE;CN="Dr. Peter Ertl, Peter Ertl Molecular";ROLE=REQ-PARTICIPANT:Dr
 . Peter Ertl, Peter Ertl Molecular
CREATED:20241009T122943Z
DESCRIPTION:https://www.uni-marburg.de/de/fb16/ipc/aktuelles/events/2024/d
 phg_2024-11-18\nDPhG-Vortrag im Wintersemester 2024/25
LAST-MODIFIED:20241009T123101Z
LOCATION:Großer Hörsaal\, Institut für Pharmazeutische Chemie\, Marbach
 er Weg 10 (M03)\, 35037 Marburg
URL:https://www.uni-marburg.de/de/fb16/ipc/aktuelles/events/2024/dphg_2024
 -11-18
END:VEVENT
BEGIN:VTIMEZONE
TZID:Europe/Berlin
X-LIC-LOCATION:Europe/Berlin
BEGIN:STANDARD
DTSTART:20241027T020000
TZNAME:CET
TZOFFSETFROM:+0200
TZOFFSETTO:+0100
END:STANDARD
END:VTIMEZONE
END:VCALENDAR
